BEGIN:VCALENDAR
VERSION:2.0
PRODID:-//eAgenda - ECPv4.6.13//NONSGML v1.0//EN
CALSCALE:GREGORIAN
METHOD:PUBLISH
X-WR-CALNAME:eAgenda
X-ORIGINAL-URL:https://portal.uab.pt/agenda
X-WR-CALDESC:Events for eAgenda
BEGIN:VEVENT
DTSTART;TZID=UTC+0:20190326T143000
DTEND;TZID=UTC+0:20190326T160000
DTSTAMP:20260424T121231
CREATED:20190403T132109Z
LAST-MODIFIED:20190403T145042Z
UID:512-1553610600-1553616000@portal.uab.pt
SUMMARY:Formação DSD: Preservação da informação na Web
DESCRIPTION:A Direção de Serviços de Documentação da Universidade Aberta (DSD/UAb) realiza no dia 26 de março de 2019\, entre as 14:30 e as 16:00\, a ação de formação Como publicar informação na web por forma a que seja preservada? \nEsta formação\, integrada no Programa de Formação da DSD\, dirige-se a docentes\, investigadores e estudantes da UAb\, webmasters\, web designers\, bloggers\, gestores de comunicação e imagem – consultar o Plano de Formação. \nOs interessados podem participar quer presencial quer virtualmente. Para quem participe presencialmente\, a ação de formação tem lugar no Auditório III da Universidade Aberta (rua da Escola Politécnica\, n.º 147\, Lisboa). \nFicha de inscrição \n
URL:https://portal.uab.pt/agenda/evento/formacao-dsd-preservacao-da-informacao-na-web/
LOCATION:Rua da Escola Politécnica N.º 141 - 147\, 1269-001 Lisboa\, Portugal
CATEGORIES:Formação
END:VEVENT
END:VCALENDAR